Package: gg4way Version: 1.5.0 Command: /Library/Frameworks/R.framework/Resources/bin/R CMD check --install=check:gg4way.install-out.txt --library=/Library/Frameworks/R.framework/Resources/library --no-vignettes --timings gg4way_1.5.0.tar.gz StartedAt: 2025-02-10 19:28:21 -0500 (Mon, 10 Feb 2025) EndedAt: 2025-02-10 19:29:33 -0500 (Mon, 10 Feb 2025) EllapsedTime: 72.9 seconds RetCode: 0 Status: OK CheckDir: gg4way.Rcheck Warnings: 0