Package: gg4way Version: 1.5.0 Command: /Library/Frameworks/R.framework/Resources/bin/R CMD INSTALL gg4way StartedAt: 2025-02-10 15:08:26 -0500 (Mon, 10 Feb 2025) EndedAt: 2025-02-10 15:08:37 -0500 (Mon, 10 Feb 2025) EllapsedTime: 10.6 seconds RetCode: 0 Status: OK