Package: gg4way Version: 1.5.0 Command: E:\biocbuild\bbs-3.21-bioc\R\bin\R.exe CMD INSTALL gg4way StartedAt: 2025-02-09 16:13:04 -0500 (Sun, 09 Feb 2025) EndedAt: 2025-02-09 16:13:41 -0500 (Sun, 09 Feb 2025) EllapsedTime: 36.9 seconds RetCode: 0 Status: OK