Package: ggbio Version: 1.55.0 Command: rm -rf ggbio.buildbin-libdir && mkdir ggbio.buildbin-libdir && /Users/biocbuild/BBS/utils/build-universal.sh ggbio_1.55.0.tar.gz /Library/Frameworks/R.framework/Resources/bin/R ggbio.buildbin-libdir StartedAt: 2025-02-09 22:16:04 -0500 (Sun, 09 Feb 2025) EndedAt: 2025-02-09 22:16:30 -0500 (Sun, 09 Feb 2025) EllapsedTime: 25.5 seconds RetCode: 0 Status: OK PackageFile: ggbio_1.55.0.tgz PackageFileSize: 3.284 MiB