Package: ggbio Version: 1.55.0 Command: /Library/Frameworks/R.framework/Resources/bin/R CMD build --keep-empty-dirs --no-resave-data ggbio StartedAt: 2025-02-09 16:27:31 -0500 (Sun, 09 Feb 2025) EndedAt: 2025-02-09 16:29:18 -0500 (Sun, 09 Feb 2025) EllapsedTime: 107.2 seconds RetCode: 0 Status: OK PackageFile: ggbio_1.55.0.tar.gz PackageFileSize: 3.096 MiB