Package: ggbio Version: 1.55.0 Command: /Library/Frameworks/R.framework/Resources/bin/R CMD check --install=check:ggbio.install-out.txt --library=/Library/Frameworks/R.framework/Resources/library --no-vignettes --timings ggbio_1.55.0.tar.gz StartedAt: 2025-02-09 19:27:05 -0500 (Sun, 09 Feb 2025) EndedAt: 2025-02-09 19:30:41 -0500 (Sun, 09 Feb 2025) EllapsedTime: 216.6 seconds RetCode: 0 Status: WARNINGS CheckDir: ggbio.Rcheck Warnings: 2