Package: ggbio Version: 1.55.0 Command: /home/biocbuild/R/R/bin/R CMD check --install=check:ggbio.install-out.txt --library=/home/biocbuild/R/R/site-library --no-vignettes --timings ggbio_1.55.0.tar.gz StartedAt: 2025-01-28 11:03:56 -0000 (Tue, 28 Jan 2025) EndedAt: 2025-01-28 11:17:14 -0000 (Tue, 28 Jan 2025) EllapsedTime: 797.5 seconds RetCode: 0 Status: WARNINGS CheckDir: ggbio.Rcheck Warnings: 5