Package: ggbio Version: 1.55.0 Command: rm -rf ggbio.buildbin-libdir && mkdir ggbio.buildbin-libdir && /Users/biocbuild/BBS/utils/build-universal.sh ggbio_1.55.0.tar.gz /Library/Frameworks/R.framework/Resources/bin/R ggbio.buildbin-libdir StartedAt: 2025-02-10 00:55:45 -0500 (Mon, 10 Feb 2025) EndedAt: 2025-02-10 00:57:10 -0500 (Mon, 10 Feb 2025) EllapsedTime: 84.6 seconds RetCode: 0 Status: OK PackageFile: ggbio_1.55.0.tgz PackageFileSize: 3.282 MiB