Package: ggbio Version: 1.55.0 Command: /Library/Frameworks/R.framework/Resources/bin/R CMD check --install=check:ggbio.install-out.txt --library=/Library/Frameworks/R.framework/Resources/library --no-vignettes --timings ggbio_1.55.0.tar.gz StartedAt: 2025-02-12 20:48:54 -0500 (Wed, 12 Feb 2025) EndedAt: 2025-02-12 21:00:44 -0500 (Wed, 12 Feb 2025) EllapsedTime: 710.2 seconds RetCode: 0 Status: WARNINGS CheckDir: ggbio.Rcheck Warnings: 2