Package: ggbio Version: 1.55.0 Command: /Library/Frameworks/R.framework/Resources/bin/R CMD INSTALL ggbio StartedAt: 2025-02-12 15:26:37 -0500 (Wed, 12 Feb 2025) EndedAt: 2025-02-12 15:27:55 -0500 (Wed, 12 Feb 2025) EllapsedTime: 77.9 seconds RetCode: 0 Status: OK