Package: ggbio Version: 1.55.0 Command: /home/biocbuild/bbs-3.21-bioc/R/bin/R CMD build --keep-empty-dirs --no-resave-data ggbio StartedAt: 2025-02-12 17:22:07 -0500 (Wed, 12 Feb 2025) EndedAt: 2025-02-12 17:26:35 -0500 (Wed, 12 Feb 2025) EllapsedTime: 267.3 seconds RetCode: 0 Status: OK PackageFile: ggbio_1.55.0.tar.gz PackageFileSize: 3.096 MiB