Package: ggbio Version: 1.55.0 Command: rm -rf ggbio.buildbin-libdir && mkdir ggbio.buildbin-libdir && E:\biocbuild\bbs-3.21-bioc\R\bin\R.exe CMD INSTALL --build --library=ggbio.buildbin-libdir ggbio_1.55.0.tar.gz StartedAt: 2025-02-10 07:50:59 -0500 (Mon, 10 Feb 2025) EndedAt: 2025-02-10 07:53:35 -0500 (Mon, 10 Feb 2025) EllapsedTime: 155.3 seconds RetCode: 0 Status: OK PackageFile: ggbio_1.55.0.zip PackageFileSize: 3.287 MiB