Package: ggbio Version: 1.55.0 Command: E:\biocbuild\bbs-3.21-bioc\R\bin\R.exe CMD check --no-multiarch --install=check:ggbio.install-out.txt --library=E:\biocbuild\bbs-3.21-bioc\R\library --no-vignettes --timings ggbio_1.55.0.tar.gz StartedAt: 2025-02-10 01:32:52 -0500 (Mon, 10 Feb 2025) EndedAt: 2025-02-10 01:44:56 -0500 (Mon, 10 Feb 2025) EllapsedTime: 724.0 seconds RetCode: 0 Status: WARNINGS CheckDir: ggbio.Rcheck Warnings: 2