Package: ggkegg Version: 1.5.1 Maintainer: Noriaki Sato MaintainerEmail: nori at hgc.jp git_url: https://git.bioconductor.org/packages/ggkegg git_branch: devel git_last_commit: a1cea0f git_last_commit_date: 2025-01-29 00:15:29 -0500 (Wed, 29 Jan 2025)