Package: ggkegg Version: 1.5.1 Command: rm -rf ggkegg.buildbin-libdir && mkdir ggkegg.buildbin-libdir && /Users/biocbuild/BBS/utils/build-universal.sh ggkegg_1.5.1.tar.gz /Library/Frameworks/R.framework/Resources/bin/R ggkegg.buildbin-libdir StartedAt: 2025-02-09 22:16:05 -0500 (Sun, 09 Feb 2025) EndedAt: 2025-02-09 22:16:11 -0500 (Sun, 09 Feb 2025) EllapsedTime: 6.1 seconds RetCode: 0 Status: OK PackageFile: ggkegg_1.5.1.tgz PackageFileSize: 3.816 MiB