Package: ggkegg Version: 1.5.1 Command: /Library/Frameworks/R.framework/Resources/bin/R CMD build --keep-empty-dirs --no-resave-data ggkegg StartedAt: 2025-02-09 16:27:40 -0500 (Sun, 09 Feb 2025) EndedAt: 2025-02-09 16:28:06 -0500 (Sun, 09 Feb 2025) EllapsedTime: 26.3 seconds RetCode: 0 Status: OK PackageFile: ggkegg_1.5.1.tar.gz PackageFileSize: 3.481 MiB