Package: ggkegg Version: 1.5.1 Command: /Library/Frameworks/R.framework/Resources/bin/R CMD INSTALL ggkegg StartedAt: 2025-02-09 15:07:07 -0500 (Sun, 09 Feb 2025) EndedAt: 2025-02-09 15:07:11 -0500 (Sun, 09 Feb 2025) EllapsedTime: 4.0 seconds RetCode: 0 Status: OK