Package: ggkegg Version: 1.5.0 Command: /home/biocbuild/R/R/bin/R CMD build --keep-empty-dirs --no-resave-data ggkegg StartedAt: 2025-01-28 23:12:12 -0000 (Tue, 28 Jan 2025) EndedAt: 2025-01-28 23:13:19 -0000 (Tue, 28 Jan 2025) EllapsedTime: 67.0 seconds RetCode: 0 Status: OK PackageFile: ggkegg_1.5.0.tar.gz PackageFileSize: 2.668 MiB