Package: ggkegg Version: 1.5.1 Command: /home/biocbuild/R/R/bin/R CMD INSTALL ggkegg StartedAt: 2025-01-29 19:44:24 -0000 (Wed, 29 Jan 2025) EndedAt: 2025-01-29 19:44:39 -0000 (Wed, 29 Jan 2025) EllapsedTime: 15.0 seconds RetCode: 0 Status: OK