Package: ggkegg Version: 1.5.1 Command: /Library/Frameworks/R.framework/Resources/bin/R CMD build --keep-empty-dirs --no-resave-data ggkegg StartedAt: 2025-02-03 16:55:13 -0500 (Mon, 03 Feb 2025) EndedAt: 2025-02-03 16:56:07 -0500 (Mon, 03 Feb 2025) EllapsedTime: 53.8 seconds RetCode: 0 Status: OK PackageFile: ggkegg_1.5.1.tar.gz PackageFileSize: 3.462 MiB