Package: ggkegg Version: 1.5.1 Command: /Library/Frameworks/R.framework/Resources/bin/R CMD check --install=check:ggkegg.install-out.txt --library=/Library/Frameworks/R.framework/Resources/library --no-vignettes --timings ggkegg_1.5.1.tar.gz StartedAt: 2025-02-09 21:01:14 -0500 (Sun, 09 Feb 2025) EndedAt: 2025-02-09 21:03:26 -0500 (Sun, 09 Feb 2025) EllapsedTime: 131.8 seconds RetCode: 0 Status: OK CheckDir: ggkegg.Rcheck Warnings: 0