Package: ggkegg Version: 1.5.1 Command: /Library/Frameworks/R.framework/Resources/bin/R CMD INSTALL ggkegg StartedAt: 2025-02-09 15:13:27 -0500 (Sun, 09 Feb 2025) EndedAt: 2025-02-09 15:13:42 -0500 (Sun, 09 Feb 2025) EllapsedTime: 15.6 seconds RetCode: 0 Status: OK