Package: ggkegg Version: 1.5.1 Command: /home/biocbuild/bbs-3.21-bioc/R/bin/R CMD build --keep-empty-dirs --no-resave-data ggkegg StartedAt: 2025-02-09 17:25:38 -0500 (Sun, 09 Feb 2025) EndedAt: 2025-02-09 17:26:22 -0500 (Sun, 09 Feb 2025) EllapsedTime: 44.1 seconds RetCode: 0 Status: OK PackageFile: ggkegg_1.5.1.tar.gz PackageFileSize: 3.491 MiB