Package: ggkegg Version: 1.5.1 Command: /home/biocbuild/bbs-3.21-bioc/R/bin/R CMD check --install=check:ggkegg.install-out.txt --library=/home/biocbuild/bbs-3.21-bioc/R/site-library --timings ggkegg_1.5.1.tar.gz StartedAt: 2025-02-09 22:44:48 -0500 (Sun, 09 Feb 2025) EndedAt: 2025-02-09 22:46:58 -0500 (Sun, 09 Feb 2025) EllapsedTime: 130.2 seconds RetCode: 0 Status: OK CheckDir: ggkegg.Rcheck Warnings: 0