Package: ggkegg Version: 1.5.1 Command: /home/biocbuild/bbs-3.21-bioc/R/bin/R CMD INSTALL ggkegg StartedAt: 2025-02-09 15:10:14 -0500 (Sun, 09 Feb 2025) EndedAt: 2025-02-09 15:10:36 -0500 (Sun, 09 Feb 2025) EllapsedTime: 21.8 seconds RetCode: 0 Status: OK