Package: ggkegg Version: 1.5.1 Command: E:\biocbuild\bbs-3.21-bioc\R\bin\R.exe CMD check --no-multiarch --install=check:ggkegg.install-out.txt --library=E:\biocbuild\bbs-3.21-bioc\R\library --no-vignettes --timings ggkegg_1.5.1.tar.gz StartedAt: 2025-02-10 01:33:28 -0500 (Mon, 10 Feb 2025) EndedAt: 2025-02-10 01:35:35 -0500 (Mon, 10 Feb 2025) EllapsedTime: 127.8 seconds RetCode: 0 Status: OK CheckDir: ggkegg.Rcheck Warnings: 0