Package: ggkegg Version: 1.5.1 Command: E:\biocbuild\bbs-3.21-bioc\R\bin\R.exe CMD INSTALL ggkegg StartedAt: 2025-02-09 15:35:32 -0500 (Sun, 09 Feb 2025) EndedAt: 2025-02-09 15:36:18 -0500 (Sun, 09 Feb 2025) EllapsedTime: 46.4 seconds RetCode: 0 Status: OK