Package: ggmanh Version: 1.11.0 Command: /Library/Frameworks/R.framework/Resources/bin/R CMD INSTALL ggmanh StartedAt: 2025-02-09 15:06:34 -0500 (Sun, 09 Feb 2025) EndedAt: 2025-02-09 15:06:36 -0500 (Sun, 09 Feb 2025) EllapsedTime: 2.1 seconds RetCode: 0 Status: OK