Package: ggmanh Version: 1.11.0 Command: /home/biocbuild/R/R/bin/R CMD build --keep-empty-dirs --no-resave-data ggmanh StartedAt: 2025-01-28 23:12:16 -0000 (Tue, 28 Jan 2025) EndedAt: 2025-01-28 23:13:21 -0000 (Tue, 28 Jan 2025) EllapsedTime: 65.0 seconds RetCode: 0 Status: OK PackageFile: ggmanh_1.11.0.tar.gz PackageFileSize: 3.395 MiB