Package: ggmanh Version: 1.11.0 Command: /home/biocbuild/bbs-3.21-bioc/R/bin/R CMD check --install=check:ggmanh.install-out.txt --library=/home/biocbuild/bbs-3.21-bioc/R/site-library --timings ggmanh_1.11.0.tar.gz StartedAt: 2025-02-09 22:44:53 -0500 (Sun, 09 Feb 2025) EndedAt: 2025-02-09 22:46:16 -0500 (Sun, 09 Feb 2025) EllapsedTime: 83.1 seconds RetCode: 0 Status: OK CheckDir: ggmanh.Rcheck Warnings: 0