Package: ggmsa Version: 1.13.1 Maintainer: Guangchuang Yu MaintainerEmail: guangchuangyu at gmail.com git_url: https://git.bioconductor.org/packages/ggmsa git_branch: devel git_last_commit: b90d4b9 git_last_commit_date: 2024-12-19 21:24:41 -0500 (Thu, 19 Dec 2024)