Package: ggmsa Version: 1.13.1 Command: rm -rf ggmsa.buildbin-libdir && mkdir ggmsa.buildbin-libdir && /Users/biocbuild/BBS/utils/build-universal.sh ggmsa_1.13.1.tar.gz /Library/Frameworks/R.framework/Resources/bin/R ggmsa.buildbin-libdir StartedAt: 2025-02-09 22:16:07 -0500 (Sun, 09 Feb 2025) EndedAt: 2025-02-09 22:16:14 -0500 (Sun, 09 Feb 2025) EllapsedTime: 7.1 seconds RetCode: 0 Status: OK PackageFile: ggmsa_1.13.1.tgz PackageFileSize: 2.823 MiB