Package: ggmsa Version: 1.13.1 Command: /home/biocbuild/R/R/bin/R CMD build --keep-empty-dirs --no-resave-data ggmsa StartedAt: 2025-01-28 23:12:40 -0000 (Tue, 28 Jan 2025) EndedAt: 2025-01-28 23:12:46 -0000 (Tue, 28 Jan 2025) EllapsedTime: 6.0 seconds RetCode: 1 Status: ERROR PackageFile: None PackageFileSize: NA