Package: ggmsa Version: 1.13.1 Command: /home/biocbuild/R/R/bin/R CMD INSTALL ggmsa StartedAt: 2025-01-29 20:08:28 -0000 (Wed, 29 Jan 2025) EndedAt: 2025-01-29 20:08:34 -0000 (Wed, 29 Jan 2025) EllapsedTime: 5.5 seconds RetCode: 1 Status: ERROR