Package: ggmsa Version: 1.13.1 Command: /Library/Frameworks/R.framework/Resources/bin/R CMD build --keep-empty-dirs --no-resave-data ggmsa StartedAt: 2025-02-09 16:54:57 -0500 (Sun, 09 Feb 2025) EndedAt: 2025-02-09 16:55:33 -0500 (Sun, 09 Feb 2025) EllapsedTime: 36.6 seconds RetCode: 0 Status: OK PackageFile: ggmsa_1.13.1.tar.gz PackageFileSize: 3.721 MiB