Package: ggmsa Version: 1.13.1 Command: /Library/Frameworks/R.framework/Resources/bin/R CMD INSTALL ggmsa StartedAt: 2025-02-12 15:26:10 -0500 (Wed, 12 Feb 2025) EndedAt: 2025-02-12 15:26:33 -0500 (Wed, 12 Feb 2025) EllapsedTime: 22.4 seconds RetCode: 0 Status: OK