Package: ggmsa Version: 1.13.1 Command: /home/biocbuild/bbs-3.21-bioc/R/bin/R CMD build --keep-empty-dirs --no-resave-data ggmsa StartedAt: 2025-02-09 17:25:40 -0500 (Sun, 09 Feb 2025) EndedAt: 2025-02-09 17:26:09 -0500 (Sun, 09 Feb 2025) EllapsedTime: 29.0 seconds RetCode: 0 Status: OK PackageFile: ggmsa_1.13.1.tar.gz PackageFileSize: 3.459 MiB