Package: ggmsa Version: 1.13.1 Command: /home/biocbuild/bbs-3.21-bioc/R/bin/R CMD INSTALL ggmsa StartedAt: 2025-02-09 15:35:52 -0500 (Sun, 09 Feb 2025) EndedAt: 2025-02-09 15:36:06 -0500 (Sun, 09 Feb 2025) EllapsedTime: 14.4 seconds RetCode: 0 Status: OK