Package: ggmsa Version: 1.13.1 Command: E:\biocbuild\bbs-3.21-bioc\R\bin\R.exe CMD INSTALL ggmsa StartedAt: 2025-02-09 15:49:53 -0500 (Sun, 09 Feb 2025) EndedAt: 2025-02-09 15:50:04 -0500 (Sun, 09 Feb 2025) EllapsedTime: 10.6 seconds RetCode: 1 Status: ERROR