Package: ggsc Version: 1.5.0 Command: rm -rf ggsc.buildbin-libdir && mkdir ggsc.buildbin-libdir && /Users/biocbuild/BBS/utils/build-universal.sh ggsc_1.5.0.tar.gz /Library/Frameworks/R.framework/Resources/bin/R ggsc.buildbin-libdir StartedAt: 2025-02-04 00:36:37 -0500 (Tue, 04 Feb 2025) EndedAt: 2025-02-04 00:37:52 -0500 (Tue, 04 Feb 2025) EllapsedTime: 75.5 seconds RetCode: 0 Status: OK PackageFile: ggsc_1.5.0.tgz PackageFileSize: 359 KiB