############################################################################## ############################################################################## ### ### Running command: ### ### /Library/Frameworks/R.framework/Resources/bin/R CMD build --keep-empty-dirs --no-resave-data ggsc ### ############################################################################## ############################################################################## * checking for file ‘ggsc/DESCRIPTION’ ... OK * preparing ‘ggsc’: * checking DESCRIPTION meta-information ... OK * cleaning src * installing the package to build vignettes * creating vignettes ... OK * cleaning src * checking for LF line-endings in source and make files and shell scripts * checking for empty or unneeded directories NB: this package now depends on R (>= 4.1.0) WARNING: Added dependency on R >= 4.1.0 because package code uses the pipe |> or function shorthand \(...) syntax added in R 4.1.0. File(s) using such syntax: ‘extract_data.R’ ‘internals.R’ ‘plot-methods.R’ ‘sc-dim-utilities.R’ ‘sc-dot.R’ ‘sc-geom-annot.R’ ‘sc-spatial.R’ * building ‘ggsc_1.5.0.tar.gz’