Package: ggsc Version: 1.5.0 Command: /Library/Frameworks/R.framework/Resources/bin/R CMD check --install=check:ggsc.install-out.txt --library=/Library/Frameworks/R.framework/Resources/library --no-vignettes --timings ggsc_1.5.0.tar.gz StartedAt: 2025-02-09 21:02:04 -0500 (Sun, 09 Feb 2025) EndedAt: 2025-02-09 21:07:50 -0500 (Sun, 09 Feb 2025) EllapsedTime: 346.5 seconds RetCode: 0 Status: OK CheckDir: ggsc.Rcheck Warnings: 0