Package: ggsc Version: 1.5.0 Command: /Library/Frameworks/R.framework/Resources/bin/R CMD INSTALL ggsc StartedAt: 2025-02-09 15:34:30 -0500 (Sun, 09 Feb 2025) EndedAt: 2025-02-09 15:35:42 -0500 (Sun, 09 Feb 2025) EllapsedTime: 71.4 seconds RetCode: 0 Status: OK