Package: ggsc Version: 1.5.0 Command: /home/biocbuild/bbs-3.21-bioc/R/bin/R CMD build --keep-empty-dirs --no-resave-data ggsc StartedAt: 2025-02-09 17:25:50 -0500 (Sun, 09 Feb 2025) EndedAt: 2025-02-09 17:26:47 -0500 (Sun, 09 Feb 2025) EllapsedTime: 57.1 seconds RetCode: 0 Status: OK PackageFile: ggsc_1.5.0.tar.gz PackageFileSize: 81.26 KiB