Package: ggsc Version: 1.5.0 Command: /home/biocbuild/bbs-3.21-bioc/R/bin/R CMD check --install=check:ggsc.install-out.txt --library=/home/biocbuild/bbs-3.21-bioc/R/site-library --timings ggsc_1.5.0.tar.gz StartedAt: 2025-02-09 22:45:43 -0500 (Sun, 09 Feb 2025) EndedAt: 2025-02-09 22:50:48 -0500 (Sun, 09 Feb 2025) EllapsedTime: 304.5 seconds RetCode: 0 Status: OK CheckDir: ggsc.Rcheck Warnings: 0