Package: ggsc Version: 1.5.0 Command: chmod a+r ggsc -R && E:\biocbuild\bbs-3.21-bioc\R\bin\R.exe CMD build --keep-empty-dirs --no-resave-data ggsc StartedAt: 2025-02-12 19:03:24 -0500 (Wed, 12 Feb 2025) EndedAt: 2025-02-12 19:05:08 -0500 (Wed, 12 Feb 2025) EllapsedTime: 103.8 seconds RetCode: 0 Status: OK PackageFile: ggsc_1.5.0.tar.gz PackageFileSize: 81.3 KiB