Package: ggsc Version: 1.5.0 Command: E:\biocbuild\bbs-3.21-bioc\R\bin\R.exe CMD check --no-multiarch --install=check:ggsc.install-out.txt --library=E:\biocbuild\bbs-3.21-bioc\R\library --no-vignettes --timings ggsc_1.5.0.tar.gz StartedAt: 2025-02-10 01:35:23 -0500 (Mon, 10 Feb 2025) EndedAt: 2025-02-10 01:41:56 -0500 (Mon, 10 Feb 2025) EllapsedTime: 392.5 seconds RetCode: 0 Status: OK CheckDir: ggsc.Rcheck Warnings: 0