Package: ggseqalign Version: 1.1.0 Command: /Library/Frameworks/R.framework/Resources/bin/R CMD build --keep-empty-dirs --no-resave-data ggseqalign StartedAt: 2025-02-09 16:28:00 -0500 (Sun, 09 Feb 2025) EndedAt: 2025-02-09 16:28:12 -0500 (Sun, 09 Feb 2025) EllapsedTime: 12.1 seconds RetCode: 0 Status: OK PackageFile: ggseqalign_1.1.0.tar.gz PackageFileSize: 717.3 KiB