Package: ggseqalign Version: 1.1.0 Command: /Library/Frameworks/R.framework/Resources/bin/R CMD INSTALL ggseqalign StartedAt: 2025-02-09 15:05:56 -0500 (Sun, 09 Feb 2025) EndedAt: 2025-02-09 15:06:01 -0500 (Sun, 09 Feb 2025) EllapsedTime: 5.6 seconds RetCode: 0 Status: OK