Package: ggseqalign Version: 1.1.0 Command: /home/biocbuild/R/R/bin/R CMD build --keep-empty-dirs --no-resave-data ggseqalign StartedAt: 2025-01-28 23:12:56 -0000 (Tue, 28 Jan 2025) EndedAt: 2025-01-28 23:13:35 -0000 (Tue, 28 Jan 2025) EllapsedTime: 39.0 seconds RetCode: 0 Status: OK PackageFile: ggseqalign_1.1.0.tar.gz PackageFileSize: 542 KiB